BEGIN:VCALENDAR
VERSION:2.0
PRODID:-//Quiet Girl - ECPv6.15.18//NONSGML v1.0//EN
CALSCALE:GREGORIAN
METHOD:PUBLISH
X-ORIGINAL-URL:https://quietgirl.de
X-WR-CALDESC:Veranstaltungen für Quiet Girl
REFRESH-INTERVAL;VALUE=DURATION:PT1H
X-Robots-Tag:noindex
X-PUBLISHED-TTL:PT1H
BEGIN:VTIMEZONE
TZID:Europe/Helsinki
BEGIN:DAYLIGHT
TZOFFSETFROM:+0200
TZOFFSETTO:+0300
TZNAME:EEST
DTSTART:20230326T010000
END:DAYLIGHT
BEGIN:STANDARD
TZOFFSETFROM:+0300
TZOFFSETTO:+0200
TZNAME:EET
DTSTART:20231029T010000
END:STANDARD
BEGIN:DAYLIGHT
TZOFFSETFROM:+0200
TZOFFSETTO:+0300
TZNAME:EEST
DTSTART:20240331T010000
END:DAYLIGHT
BEGIN:STANDARD
TZOFFSETFROM:+0300
TZOFFSETTO:+0200
TZNAME:EET
DTSTART:20241027T010000
END:STANDARD
BEGIN:DAYLIGHT
TZOFFSETFROM:+0200
TZOFFSETTO:+0300
TZNAME:EEST
DTSTART:20250330T010000
END:DAYLIGHT
BEGIN:STANDARD
TZOFFSETFROM:+0300
TZOFFSETTO:+0200
TZNAME:EET
DTSTART:20251026T010000
END:STANDARD
BEGIN:DAYLIGHT
TZOFFSETFROM:+0200
TZOFFSETTO:+0300
TZNAME:EEST
DTSTART:20260329T010000
END:DAYLIGHT
BEGIN:STANDARD
TZOFFSETFROM:+0300
TZOFFSETTO:+0200
TZNAME:EET
DTSTART:20261025T010000
END:STANDARD
BEGIN:DAYLIGHT
TZOFFSETFROM:+0200
TZOFFSETTO:+0300
TZNAME:EEST
DTSTART:20270328T010000
END:DAYLIGHT
BEGIN:STANDARD
TZOFFSETFROM:+0300
TZOFFSETTO:+0200
TZNAME:EET
DTSTART:20271031T010000
END:STANDARD
END:VTIMEZONE
BEGIN:VEVENT
DTSTART;TZID=Europe/Helsinki:20260418T183000
DTEND;TZID=Europe/Helsinki:20260418T220000
DTSTAMP:20260424T193142
CREATED:20260104T152155Z
LAST-MODIFIED:20260202T101928Z
UID:727-1776537000-1776549600@quietgirl.de
SUMMARY:Bandslam | Campus Open Air Lübeck
DESCRIPTION:
URL:https://quietgirl.de/event/bandslam-campus-open-air-luebeck/
LOCATION:Audimax\, Campus der Universität zu Lübeck\, Mönkhofer Weg 245\, Lübeck\, Schleswig-Holstein\, 23562\, Germany
ORGANIZER;CN="Allgemeiner Studierendenausschuss Universit%C3%A4t zu L%C3%BCbeck":MAILTO:info@coaluebeck.de
END:VEVENT
BEGIN:VEVENT
DTSTART;TZID=Europe/Helsinki:20260404T180000
DTEND;TZID=Europe/Helsinki:20260404T233000
DTSTAMP:20260424T193142
CREATED:20251214T143520Z
LAST-MODIFIED:20251214T143520Z
UID:719-1775325600-1775345400@quietgirl.de
SUMMARY:EMERGENZA NORD 1ST ROUND Nr. 2
DESCRIPTION:
URL:https://quietgirl.de/event/emergenza-nord-1st-round-nr-2/
LOCATION:Logo Hamburg\, Grindelallee 5\, Hamburg\, 20146\, Germany
ORGANIZER;CN="Livemusicfans Europe AB":MAILTO:info@emergenza.live
END:VEVENT
BEGIN:VEVENT
DTSTART;TZID=Europe/Helsinki:20260320T200000
DTEND;TZID=Europe/Helsinki:20260320T230000
DTSTAMP:20260424T193142
CREATED:20260104T152352Z
LAST-MODIFIED:20260104T152352Z
UID:731-1774036800-1774047600@quietgirl.de
SUMMARY:Dark Claus Over Kiel
DESCRIPTION:
URL:https://quietgirl.de/event/dark-claus-over-kiel/
LOCATION:Schaubude\, Bergstraße 17/Im Hinterhof\, Kiel\, Schleswig-Holstein\, 24103\, Germany
END:VEVENT
BEGIN:VEVENT
DTSTART;TZID=Europe/Helsinki:20260313T190000
DTEND;TZID=Europe/Helsinki:20260313T233000
DTSTAMP:20260424T193142
CREATED:20260202T101550Z
LAST-MODIFIED:20260202T101550Z
UID:758-1773428400-1773444600@quietgirl.de
SUMMARY:Markthalle (MarX) Hamburg
DESCRIPTION:
URL:https://quietgirl.de/event/markthalle-marx-hamburg/
LOCATION:Markthalle Hamburg\, Klosterwall 11\, Hamburg\, Hamburg\, 20095\, Germany
END:VEVENT
BEGIN:VEVENT
DTSTART;TZID=Europe/Helsinki:20260227T180000
DTEND;TZID=Europe/Helsinki:20260227T233000
DTSTAMP:20260424T193142
CREATED:20260204T121828Z
LAST-MODIFIED:20260204T121828Z
UID:771-1772215200-1772235000@quietgirl.de
SUMMARY:Female Fronted Rockfestival III
DESCRIPTION:
URL:https://quietgirl.de/event/female-fronted-rockfestival-iii/
LOCATION:Orange Club – Traum GmbH\, Grasweg 19\, Kiel\, Schleswig-Holstein\, 24118
END:VEVENT
BEGIN:VEVENT
DTSTART;TZID=Europe/Helsinki:20260131T193000
DTEND;TZID=Europe/Helsinki:20260131T230000
DTSTAMP:20260424T193142
CREATED:20260117T100629Z
LAST-MODIFIED:20260117T100629Z
UID:742-1769887800-1769900400@quietgirl.de
SUMMARY:Support für Lyink - Beneath The Wave We Break Tour 2026
DESCRIPTION:
URL:https://quietgirl.de/event/support-fuer-lyink-beneath-the-wave-we-break-tour-2026/
LOCATION:Stellwerk Hamburg\, Hannoversche Str. 85\, Hamburg\, Hamburg\, 21079
END:VEVENT
BEGIN:VEVENT
DTSTART;TZID=Europe/Helsinki:20251227T200000
DTEND;TZID=Europe/Helsinki:20251227T233000
DTSTAMP:20260424T193142
CREATED:20251112T115329Z
LAST-MODIFIED:20251112T115329Z
UID:707-1766865600-1766878200@quietgirl.de
SUMMARY:FCK 2025 mit Domain of Decay & FYVR
DESCRIPTION:
URL:https://quietgirl.de/event/fck-2025-mit-domain-of-decay-fyvr/
LOCATION:Schaubude\, Bergstraße 17/Im Hinterhof\, Kiel\, Schleswig-Holstein\, 24103\, Germany
END:VEVENT
BEGIN:VEVENT
DTSTART;TZID=Europe/Helsinki:20251129T190000
DTEND;TZID=Europe/Helsinki:20251129T233000
DTSTAMP:20260424T193142
CREATED:20251112T114335Z
LAST-MODIFIED:20251112T114335Z
UID:701-1764442800-1764459000@quietgirl.de
SUMMARY:RPS Festival
DESCRIPTION:
URL:https://quietgirl.de/event/rps-festival/
LOCATION:Werkhof Lübeck e.V.\, Kanalstraße 70\, Lübeck\, 23552\, Deutschland
END:VEVENT
BEGIN:VEVENT
DTSTART;TZID=Europe/Helsinki:20251120T201500
DTEND;TZID=Europe/Helsinki:20251120T224500
DTSTAMP:20260424T193142
CREATED:20251112T114753Z
LAST-MODIFIED:20251112T114753Z
UID:703-1763669700-1763678700@quietgirl.de
SUMMARY:Treffen junge Musikszene der Berliner Festspiele
DESCRIPTION:
URL:https://quietgirl.de/event/treffen-junge-musikszene-der-berliner-festspiele/
LOCATION:Haus der Berliner Festspiele\, Schaperstraße 24\, Berlin\, Berlin\, 10719\, Germany
END:VEVENT
BEGIN:VEVENT
DTSTART;TZID=Europe/Helsinki:20251025T220000
DTEND;TZID=Europe/Helsinki:20251025T230000
DTSTAMP:20260424T193142
CREATED:20250901T144312Z
LAST-MODIFIED:20250901T144312Z
UID:690-1761429600-1761433200@quietgirl.de
SUMMARY:Tolzi 25
DESCRIPTION:
URL:https://quietgirl.de/event/tolzi-25/
LOCATION:AJZ Neumünster\, Anscharstraße 8-10\, Neumünster\, 24534\, Germany
END:VEVENT
BEGIN:VEVENT
DTSTART;TZID=Europe/Helsinki:20250927T213000
DTEND;TZID=Europe/Helsinki:20250927T223000
DTSTAMP:20260424T193142
CREATED:20250901T144053Z
LAST-MODIFIED:20250901T144053Z
UID:686-1759008600-1759012200@quietgirl.de
SUMMARY:JuZ Mühle
DESCRIPTION:
URL:https://quietgirl.de/event/juz-muehle/
LOCATION:JuZ Mühle\, An d. Trave 1\, Bad Segeberg\, Schleswig-Holstein\, 23795\, Germany
ORGANIZER;CN="Stadt Bad Segeberg":MAILTO:info@badsegeberg.de
END:VEVENT
BEGIN:VEVENT
DTSTART;TZID=Europe/Helsinki:20250925T203000
DTEND;TZID=Europe/Helsinki:20250925T213000
DTSTAMP:20260424T193142
CREATED:20250716T173258Z
LAST-MODIFIED:20250716T173417Z
UID:665-1758832200-1758835800@quietgirl.de
SUMMARY:KLANG Festival
DESCRIPTION:
URL:https://quietgirl.de/event/klang-festival/
LOCATION:Imagine Bar\, Friedrich-Ebert-Straße 7\, Flensburg\, Schleswig-Holstein\, 24937\, Germany
END:VEVENT
BEGIN:VEVENT
DTSTART;TZID=Europe/Helsinki:20250920T200000
DTEND;TZID=Europe/Helsinki:20250920T233000
DTSTAMP:20260424T193142
CREATED:20250617T075409Z
LAST-MODIFIED:20250617T075409Z
UID:661-1758398400-1758411000@quietgirl.de
SUMMARY:Funambules Lübeck
DESCRIPTION:
URL:https://quietgirl.de/event/funambules-luebeck/
LOCATION:Funambules Lübeck\, An der Obertrave 18\, Lübeck\, Schleswig-Holstein\, 23552\, Germany
END:VEVENT
BEGIN:VEVENT
DTSTART;TZID=Europe/Helsinki:20250905T210000
DTEND;TZID=Europe/Helsinki:20250905T220000
DTSTAMP:20260424T193142
CREATED:20250520T105213Z
LAST-MODIFIED:20250520T105213Z
UID:641-1757106000-1757109600@quietgirl.de
SUMMARY:Bad Oldesloer Jugendkultursommer 2025
DESCRIPTION:
URL:https://quietgirl.de/event/bad-oldesloer-jugendkultursommer-2025/
LOCATION:Jugendfreizeitstätte (Juze) Bad Oldesloe\, Am Bürgerpark 2\, Bad Oldesloe\, Schleswig-Holstein\, 23843\, Germany
END:VEVENT
BEGIN:VEVENT
DTSTART;TZID=Europe/Helsinki:20250718T171500
DTEND;TZID=Europe/Helsinki:20250718T174500
DTSTAMP:20260424T193142
CREATED:20250520T104304Z
LAST-MODIFIED:20250612T064623Z
UID:639-1752858900-1752860700@quietgirl.de
SUMMARY:CLASSICAL BEAT Jugendfestival Travemünde
DESCRIPTION:
URL:https://quietgirl.de/event/classical-beat-jugendfestival-travemuende/
LOCATION:Slow Down Stage Travemünde\, Dünenweg 2\, Priwall Travemünde\, 23570
END:VEVENT
BEGIN:VEVENT
DTSTART;TZID=Europe/Helsinki:20250711T200000
DTEND;TZID=Europe/Helsinki:20250711T224000
DTSTAMP:20260424T193142
CREATED:20250511T093318Z
LAST-MODIFIED:20250511T093318Z
UID:629-1752264000-1752273600@quietgirl.de
SUMMARY:ROCKTREFF
DESCRIPTION:
URL:https://quietgirl.de/event/rocktreff/
LOCATION:Volkspark Mariendorf\, Prühßstraße 9\, Berlin\, Berlin\, 12109\, Germany
ORGANIZER;CN="Bezirksamt Tempelhof-Sch%C3%B6neberg":MAILTO:jugendamtsleitung@ba-ts.berlin.de
END:VEVENT
BEGIN:VEVENT
DTSTART;VALUE=DATE:20250705
DTEND;VALUE=DATE:20250706
DTSTAMP:20260424T193142
CREATED:20250108T092045Z
LAST-MODIFIED:20250108T092045Z
UID:573-1751673600-1751759999@quietgirl.de
SUMMARY:Langeln Open Air
DESCRIPTION:
URL:https://quietgirl.de/event/langeln-open-air/
LOCATION:Langeln Open Air\, Kieler Chaussee / Up de Höcht\, Langeln\, 25485\, Germany
ORGANIZER;CN="Langeln Open Air e.V.":MAILTO:post@langelnopenair.de
END:VEVENT
BEGIN:VEVENT
DTSTART;TZID=Europe/Helsinki:20250704T213000
DTEND;TZID=Europe/Helsinki:20250704T223000
DTSTAMP:20260424T193143
CREATED:20250307T091113Z
LAST-MODIFIED:20250307T091113Z
UID:609-1751664600-1751668200@quietgirl.de
SUMMARY:BFBS 2025 - Band Festival Bargfeld-Stegen
DESCRIPTION:
URL:https://quietgirl.de/event/bfbs-2025-band-festival-bargfeld-stegen/
LOCATION:Dorfplatz Bargfeld-Stegen\, Nienwohlder Straße\, Bargfeld-Stegen\, Schleswig-Holstein\, 23863\, Germany
END:VEVENT
BEGIN:VEVENT
DTSTART;TZID=Europe/Helsinki:20250628T173000
DTEND;TZID=Europe/Helsinki:20250628T233000
DTSTAMP:20260424T193143
CREATED:20250525T081218Z
LAST-MODIFIED:20250525T081218Z
UID:645-1751131800-1751153400@quietgirl.de
SUMMARY:EMERGENZA FINALE HAMBURG 2025
DESCRIPTION:
URL:https://quietgirl.de/event/emergenza-finale-hamburg-2025/
LOCATION:Knust Hamburg\, Neuer Kamp 30\, Hamburg\, Hamburg\, 20357\, Germany
ORGANIZER;CN="Livemusicfans Europe AB":MAILTO:info@emergenza.live
END:VEVENT
BEGIN:VEVENT
DTSTART;TZID=Europe/Helsinki:20250627T140000
DTEND;TZID=Europe/Helsinki:20250627T144500
DTSTAMP:20260424T193143
CREATED:20250528T070048Z
LAST-MODIFIED:20250528T070239Z
UID:649-1751032800-1751035500@quietgirl.de
SUMMARY:Radio Bob! Rockcamp
DESCRIPTION:
URL:https://quietgirl.de/event/radio-bob-rockcamp/
LOCATION:Reventlouwiese Kiel\, Reventlouallee 1b\, Kiel\, Schleswig-Holstein\, 24105\, Germany
END:VEVENT
BEGIN:VEVENT
DTSTART;TZID=Europe/Helsinki:20250621T224500
DTEND;TZID=Europe/Helsinki:20250621T234500
DTSTAMP:20260424T193143
CREATED:20250314T160546Z
LAST-MODIFIED:20250314T160546Z
UID:618-1750545900-1750549500@quietgirl.de
SUMMARY:Junge Bühne Kieler Woche
DESCRIPTION:
URL:https://quietgirl.de/event/junge-buehne-kieler-woche/
LOCATION:Ratsdienergarten\, Ratsdienergarten\, Kiel\, Schleswig-Holstein\, 24103\, Germany
ORGANIZER;CN="Landeshauptstadt Kiel":MAILTO:Christian.Klengel@kiel.de
END:VEVENT
BEGIN:VEVENT
DTSTART;TZID=Europe/Helsinki:20250621T171500
DTEND;TZID=Europe/Helsinki:20250621T174500
DTSTAMP:20260424T193143
CREATED:20250520T104153Z
LAST-MODIFIED:20250612T064647Z
UID:635-1750526100-1750527900@quietgirl.de
SUMMARY:CLASSICAL BEAT Jugendfestival Eutin
DESCRIPTION:
URL:https://quietgirl.de/event/classical-beat-jugendfestival-eutin/
LOCATION:Seepark Eutin\, Seepark\, Eutin\, Schleswig-Holstein\, 23701\, Germany
END:VEVENT
BEGIN:VEVENT
DTSTART;TZID=Europe/Helsinki:20250614T221500
DTEND;TZID=Europe/Helsinki:20250614T230000
DTSTAMP:20260424T193143
CREATED:20250528T205228Z
LAST-MODIFIED:20250603T104458Z
UID:654-1749939300-1749942000@quietgirl.de
SUMMARY:Holstenköste Junge Bühne
DESCRIPTION:
URL:https://quietgirl.de/event/holstenkoeste-junge-buehne/
LOCATION:Teichuferanlagen Neumünster\, Teichuferanlagen\, Neumünster\, Schleswig-Holstein\, 24534\, Germany
END:VEVENT
BEGIN:VEVENT
DTSTART;TZID=Europe/Helsinki:20250606T170000
DTEND;TZID=Europe/Helsinki:20250606T180000
DTSTAMP:20260424T193143
CREATED:20250314T155957Z
LAST-MODIFIED:20250314T155957Z
UID:614-1749229200-1749232800@quietgirl.de
SUMMARY:Wilwarin Festival
DESCRIPTION:
URL:https://quietgirl.de/event/wilwarin-festival/
LOCATION:Wilwarin Festival Gelände\, Ellerdorf\, Schleswig-Holstein\, 24589\, Germany
ORGANIZER;CN="Wilwarin Festival GmbH & Co.KG":MAILTO:info@wilwarin.de
END:VEVENT
BEGIN:VEVENT
DTSTART;TZID=Europe/Helsinki:20250529T180000
DTEND;TZID=Europe/Helsinki:20250529T235900
DTSTAMP:20260424T193143
CREATED:20250108T092726Z
LAST-MODIFIED:20250511T093919Z
UID:577-1748541600-1748563140@quietgirl.de
SUMMARY:Kuhltopia-laut
DESCRIPTION:
URL:https://quietgirl.de/event/kuhltopia-25/
LOCATION:Kuhltopia\, Kieskuhle\, Müssen\, 21516\, Germany
ORGANIZER;CN="Steinaukultur e.V.":MAILTO:info@steinaukultur.de
END:VEVENT
BEGIN:VEVENT
DTSTART;TZID=Europe/Helsinki:20250524T183000
DTEND;TZID=Europe/Helsinki:20250524T233000
DTSTAMP:20260424T193143
CREATED:20250108T091309Z
LAST-MODIFIED:20250108T091354Z
UID:568-1748111400-1748129400@quietgirl.de
SUMMARY:Emergenza Hamburg
DESCRIPTION:
URL:https://quietgirl.de/event/emergenza-hamburg/
LOCATION:Logo Hamburg\, Grindelallee 5\, Hamburg\, 20146\, Germany
ORGANIZER;CN="Livemusicfans Europe AB":MAILTO:info@emergenza.live
END:VEVENT
BEGIN:VEVENT
DTSTART;TZID=Europe/Helsinki:20250517T190000
DTEND;TZID=Europe/Helsinki:20250517T194500
DTSTAMP:20260424T193143
CREATED:20250510T080931Z
LAST-MODIFIED:20250510T080931Z
UID:625-1747508400-1747511100@quietgirl.de
SUMMARY:Priesterkate Open Air
DESCRIPTION:
URL:https://quietgirl.de/event/priesterkate-open-air/
LOCATION:Priesterkate Büchen\, Gudower Str. 1\, Büchen\, Schleswig-Holstein\, 21514\, Germany
ORGANIZER;CN="Gemeinde B%C3%BCchen":MAILTO:info@amt-buechen.de
END:VEVENT
BEGIN:VEVENT
DTSTART;VALUE=DATE:20250215
DTEND;VALUE=DATE:20250216
DTSTAMP:20260424T193143
CREATED:20250108T093211Z
LAST-MODIFIED:20250108T093324Z
UID:581-1739577600-1739663999@quietgirl.de
SUMMARY:AJZ Neumünster
DESCRIPTION:
URL:https://quietgirl.de/event/ajz-neumuenster/
LOCATION:AJZ Neumünster\, Anscharstraße 8-10\, Neumünster\, 24534\, Germany
ORGANIZER;CN="Aktion Jugendzentrum Neum%C3%BCnster e.V.":MAILTO:info@ajz-neumuenster.de
END:VEVENT
BEGIN:VEVENT
DTSTART;TZID=Europe/Helsinki:20241130T180000
DTEND;TZID=Europe/Helsinki:20241130T233000
DTSTAMP:20260424T193143
CREATED:20240705T081509Z
LAST-MODIFIED:20240705T084938Z
UID:485-1732989600-1733009400@quietgirl.de
SUMMARY:Festival der RockPop Schule Lübeck
DESCRIPTION:
URL:https://quietgirl.de/event/festival-der-rockpop-schule-luebeck/
LOCATION:Werkhof Lübeck e.V.\, Kanalstraße 70\, Lübeck\, 23552\, Deutschland
END:VEVENT
BEGIN:VEVENT
DTSTART;TZID=Europe/Helsinki:20240720T164500
DTEND;TZID=Europe/Helsinki:20240720T171500
DTSTAMP:20260424T193143
CREATED:20240705T082409Z
LAST-MODIFIED:20240705T082409Z
UID:491-1721493900-1721495700@quietgirl.de
SUMMARY:Classical Beat Jugend Festival
DESCRIPTION:
URL:https://quietgirl.de/event/classical-beat-jugend-festival/
LOCATION:Slow Down Stage Travemünde\, Dünenweg 2\, Priwall Travemünde\, 23570
END:VEVENT
END:VCALENDAR